BEGIN:VCALENDAR
VERSION:2.0
PRODID:-//Beracahmusic Ministries International - ECPv6.0.1.1//NONSGML v1.0//EN
CALSCALE:GREGORIAN
METHOD:PUBLISH
X-ORIGINAL-URL:https://beracah.obeygaming.net
X-WR-CALDESC:Events for Beracahmusic Ministries International
REFRESH-INTERVAL;VALUE=DURATION:PT1H
X-Robots-Tag:noindex
X-PUBLISHED-TTL:PT1H
BEGIN:VTIMEZONE
TZID:UTC
BEGIN:STANDARD
TZOFFSETFROM:+0000
TZOFFSETTO:+0000
TZNAME:UTC
DTSTART:20220101T000000
END:STANDARD
END:VTIMEZONE
BEGIN:VEVENT
DTSTART;TZID=UTC:20221016T093000
DTEND;TZID=UTC:20221016T110000
DTSTAMP:20260420T160120
CREATED:20221004T164208Z
LAST-MODIFIED:20221005T104406Z
UID:10000002-1665912600-1665918000@beracah.obeygaming.net
SUMMARY:Steve & Vel at Ashurst Drive Baptist Church
DESCRIPTION:Steve & Velveta will be leading worship and speaking at Ashurst Drive Baptist Church’s 25th Anniversary Celebration
URL:https://beracah.obeygaming.net/event/steve-vel-at-ashurst-drive-baptist-church/
LOCATION:Ashurst Baptist Church\, Ashurst Drive\, Ilford\, Essex\, IG2 6QH\, United Kingdom
ATTACH;FMTTYPE=image/jpeg:https://beracah.obeygaming.net/wp-content/uploads/2022/10/Ashurst-Drive-Baptist.jpg
END:VEVENT
END:VCALENDAR